BEGIN:VCALENDAR
VERSION:2.0
PRODID:icalendar-ruby
CALSCALE:GREGORIAN
METHOD:PUBLISH
BEGIN:VEVENT
DTSTAMP:20260422T134100Z
UID:43-1168955@bethelwesley.org
DTSTART:20260426T194500Z
DTEND:20260426T220000Z
CLASS:PUBLIC
CREATED:20260421T164327
DESCRIPTION:
LAST-MODIFIED:20260421T164327
LOCATION:Activity Center
SUMMARY:FAMILY NIGHT - Blessing Bag Pack
URL;VALUE=URI:https://www.bethelwesley.org/events/family-night-blessing-bag
 -pack/2026-04-26
ATTACH;FILENAME=Family-Night.png;FMTTYPE=image/png:https://dq5pwpg1q8ru0.cl
 oudfront.net/2026/04/21/21/41/23/c0e81b8e-c2c7-4cbd-bdf4-c09aa5c5a17c/Fami
 ly-Night.png
END:VEVENT
END:VCALENDAR
